BEGIN:VCALENDAR
VERSION:2.0
PRODID:-//The Coop - ECPv6.6.3//NONSGML v1.0//EN
CALSCALE:GREGORIAN
METHOD:PUBLISH
X-WR-CALNAME:The Coop
X-ORIGINAL-URL:https://thecoopeats.com
X-WR-CALDESC:Events for The Coop
REFRESH-INTERVAL;VALUE=DURATION:PT1H
X-Robots-Tag:noindex
X-PUBLISHED-TTL:PT1H
BEGIN:VTIMEZONE
TZID:America/New_York
BEGIN:DAYLIGHT
TZOFFSETFROM:-0500
TZOFFSETTO:-0400
TZNAME:EDT
DTSTART:20230312T070000
END:DAYLIGHT
BEGIN:STANDARD
TZOFFSETFROM:-0400
TZOFFSETTO:-0500
TZNAME:EST
DTSTART:20231105T060000
END:STANDARD
END:VTIMEZONE
BEGIN:VEVENT
DTSTART;TZID=America/New_York:20230903T100000
DTEND;TZID=America/New_York:20230903T160000
DTSTAMP:20260423T234316
CREATED:20230820T030050Z
LAST-MODIFIED:20230820T030050Z
UID:1004-1693735200-1693756800@thecoopeats.com
SUMMARY:Danbury War Memorial Car Show
DESCRIPTION:
URL:https://thecoopeats.com/event/danbury-war-memorial-car-show-2/
LOCATION:Danbury War Memorial\, 1 Memorial Dr\, Danbury\, CT\, 06810\, United States
END:VEVENT
BEGIN:VEVENT
DTSTART;TZID=America/New_York:20230909T130000
DTEND;TZID=America/New_York:20230909T210000
DTSTAMP:20260423T234316
CREATED:20230820T030225Z
LAST-MODIFIED:20230820T030225Z
UID:1006-1694264400-1694293200@thecoopeats.com
SUMMARY:Housatonic River Brewing
DESCRIPTION:
URL:https://thecoopeats.com/event/housatonic-river-brewing-9/
LOCATION:Housatonic River Brewing Co\, 30 Kent Rd\, New Milford\, CT\, 06776\, United States
END:VEVENT
BEGIN:VEVENT
DTSTART;TZID=America/New_York:20230922T160000
DTEND;TZID=America/New_York:20230922T210000
DTSTAMP:20260423T234316
CREATED:20230920T170627Z
LAST-MODIFIED:20230920T170627Z
UID:1009-1695398400-1695416400@thecoopeats.com
SUMMARY:Housatonic River Brewing
DESCRIPTION:
URL:https://thecoopeats.com/event/housatonic-river-brewing-10/
LOCATION:Housatonic River Brewing Co\, 30 Kent Rd\, New Milford\, CT\, 06776\, United States
END:VEVENT
BEGIN:VEVENT
DTSTART;TZID=America/New_York:20230923T130000
DTEND;TZID=America/New_York:20230923T210000
DTSTAMP:20260423T234316
CREATED:20230920T170716Z
LAST-MODIFIED:20230920T170716Z
UID:1011-1695474000-1695502800@thecoopeats.com
SUMMARY:Nod Hill Brewery
DESCRIPTION:
URL:https://thecoopeats.com/event/nod-hill-brewery-3/
LOCATION:Nod Hill Brewery\, 137 Ethan Allen Hwy\, Ridgefield\, CT\, 06877\, United States
END:VEVENT
BEGIN:VEVENT
DTSTART;TZID=America/New_York:20230924T120000
DTEND;TZID=America/New_York:20230924T190000
DTSTAMP:20260423T234316
CREATED:20230920T170757Z
LAST-MODIFIED:20230920T170757Z
UID:1013-1695556800-1695582000@thecoopeats.com
SUMMARY:Housatonic River Brewing
DESCRIPTION:
URL:https://thecoopeats.com/event/housatonic-river-brewing-11/
LOCATION:Housatonic River Brewing Co\, 30 Kent Rd\, New Milford\, CT\, 06776\, United States
END:VEVENT
END:VCALENDAR