BEGIN:VCALENDAR
VERSION:2.0
PRODID:-//The Coop - ECPv6.6.3//NONSGML v1.0//EN
CALSCALE:GREGORIAN
METHOD:PUBLISH
X-WR-CALNAME:The Coop
X-ORIGINAL-URL:https://thecoopeats.com
X-WR-CALDESC:Events for The Coop
REFRESH-INTERVAL;VALUE=DURATION:PT1H
X-Robots-Tag:noindex
X-PUBLISHED-TTL:PT1H
BEGIN:VTIMEZONE
TZID:America/New_York
BEGIN:DAYLIGHT
TZOFFSETFROM:-0500
TZOFFSETTO:-0400
TZNAME:EDT
DTSTART:20210314T070000
END:DAYLIGHT
BEGIN:STANDARD
TZOFFSETFROM:-0400
TZOFFSETTO:-0500
TZNAME:EST
DTSTART:20211107T060000
END:STANDARD
END:VTIMEZONE
BEGIN:VEVENT
DTSTART;TZID=America/New_York:20210526T040000
DTEND;TZID=America/New_York:20210526T130000
DTSTAMP:20260424T115312
CREATED:20210527T005550Z
LAST-MODIFIED:20210527T005550Z
UID:578-1622001600-1622034000@thecoopeats.com
SUMMARY:Occupy Harrybrooke - PRIVATE EVENT
DESCRIPTION:
URL:https://thecoopeats.com/event/occupy-harrybrooke-private-event/
LOCATION:CT
END:VEVENT
BEGIN:VEVENT
DTSTART;TZID=America/New_York:20210522T143000
DTEND;TZID=America/New_York:20210522T173000
DTSTAMP:20260424T115312
CREATED:20210416T200829Z
LAST-MODIFIED:20210416T200829Z
UID:549-1621693800-1621704600@thecoopeats.com
SUMMARY:Private Party
DESCRIPTION:
URL:https://thecoopeats.com/event/private-party-2/
LOCATION:CT
END:VEVENT
BEGIN:VEVENT
DTSTART;TZID=America/New_York:20210514T070000
DTEND;TZID=America/New_York:20210514T110000
DTSTAMP:20260424T115312
CREATED:20210506T195838Z
LAST-MODIFIED:20210506T195838Z
UID:569-1620975600-1620990000@thecoopeats.com
SUMMARY:OrthoConnecticut
DESCRIPTION:
URL:https://thecoopeats.com/event/orthoconnecticut/
LOCATION:OrthoConnecticut\, 2 riverview dr\, Danbury\, CT\, 06811\, United States
END:VEVENT
BEGIN:VEVENT
DTSTART;TZID=America/New_York:20210427T063000
DTEND;TZID=America/New_York:20210427T083000
DTSTAMP:20260424T115312
CREATED:20210428T031001Z
LAST-MODIFIED:20210428T031001Z
UID:565-1619505000-1619512200@thecoopeats.com
SUMMARY:Maritime Odyssey Preschool (Teacher Appreciation Day)
DESCRIPTION:
URL:https://thecoopeats.com/event/maritime-odyssey-preschool-teacher-appreciation-day/
LOCATION:Mystic Odyssey Preschool\, 11 Ingalls Avenue\, Norwalk\, CT\, 06854\, United States
END:VEVENT
END:VCALENDAR