BEGIN:VCALENDAR
VERSION:2.0
PRODID:-//The Coop - ECPv6.6.3//NONSGML v1.0//EN
CALSCALE:GREGORIAN
METHOD:PUBLISH
X-WR-CALNAME:The Coop
X-ORIGINAL-URL:https://thecoopeats.com
X-WR-CALDESC:Events for The Coop
REFRESH-INTERVAL;VALUE=DURATION:PT1H
X-Robots-Tag:noindex
X-PUBLISHED-TTL:PT1H
BEGIN:VTIMEZONE
TZID:America/New_York
BEGIN:DAYLIGHT
TZOFFSETFROM:-0500
TZOFFSETTO:-0400
TZNAME:EDT
DTSTART:20230312T070000
END:DAYLIGHT
BEGIN:STANDARD
TZOFFSETFROM:-0400
TZOFFSETTO:-0500
TZNAME:EST
DTSTART:20231105T060000
END:STANDARD
BEGIN:DAYLIGHT
TZOFFSETFROM:-0500
TZOFFSETTO:-0400
TZNAME:EDT
DTSTART:20240310T070000
END:DAYLIGHT
BEGIN:STANDARD
TZOFFSETFROM:-0400
TZOFFSETTO:-0500
TZNAME:EST
DTSTART:20241103T060000
END:STANDARD
END:VTIMEZONE
BEGIN:VEVENT
DTSTART;TZID=America/New_York:20231005T170000
DTEND;TZID=America/New_York:20231005T200000
DTSTAMP:20260424T040033
CREATED:20230930T162520Z
LAST-MODIFIED:20230930T162520Z
UID:1032-1696525200-1696536000@thecoopeats.com
SUMMARY:The Point at Still River Apartments
DESCRIPTION:
URL:https://thecoopeats.com/event/the-point-at-still-river-apartments-3/
LOCATION:Point at Still River\, 2 Mountainview Terrace\, Danbury\, Danbury\, CT\, 06811\, United States
END:VEVENT
BEGIN:VEVENT
DTSTART;TZID=America/New_York:20231008T110000
DTEND;TZID=America/New_York:20231015T150000
DTSTAMP:20260424T040033
CREATED:20230930T161403Z
LAST-MODIFIED:20231005T123232Z
UID:1017-1696762800-1697382000@thecoopeats.com
SUMMARY:Phillips Farm Preserve 20th Anniversary Celebration
DESCRIPTION:
URL:https://thecoopeats.com/event/phillips-farm-preserve-20th-anniversary-celebration/
LOCATION:Phillips Farm Preserve\, 400 Sanford Rd\, Southbury\, CT\, 06488\, United States
END:VEVENT
BEGIN:VEVENT
DTSTART;TZID=America/New_York:20231014T120000
DTEND;TZID=America/New_York:20231014T203000
DTSTAMP:20260424T040033
CREATED:20230930T161712Z
LAST-MODIFIED:20230930T161712Z
UID:1022-1697284800-1697315400@thecoopeats.com
SUMMARY:Nod Hill Brewery
DESCRIPTION:
URL:https://thecoopeats.com/event/nod-hill-brewery-4/
LOCATION:Nod Hill Brewery\, 137 Ethan Allen Hwy\, Ridgefield\, CT\, 06877\, United States
END:VEVENT
BEGIN:VEVENT
DTSTART;TZID=America/New_York:20231018T170000
DTEND;TZID=America/New_York:20231018T200000
DTSTAMP:20260424T040033
CREATED:20230930T161930Z
LAST-MODIFIED:20230930T161930Z
UID:1024-1697648400-1697659200@thecoopeats.com
SUMMARY:Woodland Hills Townhomes
DESCRIPTION:
URL:https://thecoopeats.com/event/woodland-hills-townhomes/
LOCATION:Woodland Hills Townhomes\, 150 Woodcrest Ln\, Danbury\, CT\, 06810\, United States
END:VEVENT
BEGIN:VEVENT
DTSTART;TZID=America/New_York:20231026T170000
DTEND;TZID=America/New_York:20231026T200000
DTSTAMP:20260424T040033
CREATED:20230930T162005Z
LAST-MODIFIED:20230930T162005Z
UID:1027-1698339600-1698350400@thecoopeats.com
SUMMARY:Point at Still River Apartments
DESCRIPTION:
URL:https://thecoopeats.com/event/point-at-still-river-apartments/
LOCATION:Point at Still River\, 2 Mountainview Terrace\, Danbury\, Danbury\, CT\, 06811\, United States
END:VEVENT
BEGIN:VEVENT
DTSTART;TZID=America/New_York:20231028T160000
DTEND;TZID=America/New_York:20231028T190000
DTSTAMP:20260424T040033
CREATED:20230930T162320Z
LAST-MODIFIED:20230930T162320Z
UID:1029-1698508800-1698519600@thecoopeats.com
SUMMARY:Dawgtoberfest
DESCRIPTION:
URL:https://thecoopeats.com/event/dawgtoberfest/
LOCATION:Dawg House\, 68 Mill Plain Rd\, Danbury\, CT\, 06811\, United States
END:VEVENT
BEGIN:VEVENT
DTSTART;TZID=America/New_York:20240125T100000
DTEND;TZID=America/New_York:20240125T150000
DTSTAMP:20260424T040033
CREATED:20240123T172435Z
LAST-MODIFIED:20240123T172435Z
UID:1038-1706176800-1706194800@thecoopeats.com
SUMMARY:MannKind Corp
DESCRIPTION:
URL:https://thecoopeats.com/event/mannkind-corp-4/
LOCATION:MannKind\, 1 Casper St\, Danbury\, CT\, 06810\, United States
END:VEVENT
BEGIN:VEVENT
DTSTART;TZID=America/New_York:20240228T170000
DTEND;TZID=America/New_York:20240228T210000
DTSTAMP:20260424T040033
CREATED:20240123T172533Z
LAST-MODIFIED:20240227T165907Z
UID:1040-1709139600-1709154000@thecoopeats.com
SUMMARY:Reverie Brewery Company
DESCRIPTION:
URL:https://thecoopeats.com/event/reverie-brewery-company/
LOCATION:Reverie Brewery\, 57B Church Hill Rd\, Newtown\, CT\, 06470\, United States
END:VEVENT
BEGIN:VEVENT
DTSTART;TZID=America/New_York:20240403T150000
DTEND;TZID=America/New_York:20240403T210000
DTSTAMP:20260424T040033
CREATED:20240325T182209Z
LAST-MODIFIED:20240325T182209Z
UID:1076-1712156400-1712178000@thecoopeats.com
SUMMARY:Reverie Brewing Co.
DESCRIPTION:
URL:https://thecoopeats.com/event/reverie-brewing-co/
LOCATION:Reverie Brewery\, 57B Church Hill Rd\, Newtown\, CT\, 06470\, United States
END:VEVENT
BEGIN:VEVENT
DTSTART;TZID=America/New_York:20240404T150000
DTEND;TZID=America/New_York:20240404T210000
DTSTAMP:20260424T040033
CREATED:20240325T182303Z
LAST-MODIFIED:20240325T182303Z
UID:1078-1712242800-1712264400@thecoopeats.com
SUMMARY:Reverie Brewing Co.
DESCRIPTION:
URL:https://thecoopeats.com/event/reverie-brewing-co-2/
LOCATION:Reverie Brewery\, 57B Church Hill Rd\, Newtown\, CT\, 06470\, United States
END:VEVENT
BEGIN:VEVENT
DTSTART;TZID=America/New_York:20240405T120000
DTEND;TZID=America/New_York:20240405T220000
DTSTAMP:20260424T040033
CREATED:20240325T182324Z
LAST-MODIFIED:20240325T182324Z
UID:1080-1712318400-1712354400@thecoopeats.com
SUMMARY:Reverie Brewing Co.
DESCRIPTION:
URL:https://thecoopeats.com/event/reverie-brewing-co-3/
LOCATION:Reverie Brewery\, 57B Church Hill Rd\, Newtown\, CT\, 06470\, United States
END:VEVENT
END:VCALENDAR